BEGIN:VCALENDAR
VERSION:2.0
PRODID:-//CEIP JORGE GUILLÉN - ECPv6.10.0//NONSGML v1.0//EN
CALSCALE:GREGORIAN
METHOD:PUBLISH
X-ORIGINAL-URL:https://portal.edu.gva.es/jorgeguillenelx
X-WR-CALDESC:Eventos para CEIP JORGE GUILLÉN
REFRESH-INTERVAL;VALUE=DURATION:PT1H
X-Robots-Tag:noindex
X-PUBLISHED-TTL:PT1H
BEGIN:VTIMEZONE
TZID:Europe/Helsinki
BEGIN:DAYLIGHT
TZOFFSETFROM:+0200
TZOFFSETTO:+0300
TZNAME:EEST
DTSTART:20230326T010000
END:DAYLIGHT
BEGIN:STANDARD
TZOFFSETFROM:+0300
TZOFFSETTO:+0200
TZNAME:EET
DTSTART:20231029T010000
END:STANDARD
END:VTIMEZONE
BEGIN:VEVENT
DTSTART;TZID=Europe/Helsinki:20230509T090000
DTEND;TZID=Europe/Helsinki:20230509T170000
DTSTAMP:20260420T043929
CREATED:20230221T163751Z
LAST-MODIFIED:20230221T163751Z
UID:3173-1683622800-1683651600@portal.edu.gva.es
SUMMARY:Infantil 5 años: Natural School
DESCRIPTION:
URL:https://portal.edu.gva.es/jorgeguillenelx/es/event/infantil-5-anos-natural-school/
CATEGORIES:Excursión
END:VEVENT
END:VCALENDAR