BEGIN:VCALENDAR
VERSION:2.0
PRODID:-//IES MONTSERRAT ROIG - ECPv6.10.0//NONSGML v1.0//EN
CALSCALE:GREGORIAN
METHOD:PUBLISH
X-WR-CALNAME:IES MONTSERRAT ROIG
X-ORIGINAL-URL:https://portal.edu.gva.es/iesmontserratroig
X-WR-CALDESC:Esdeveniments per IES MONTSERRAT ROIG
REFRESH-INTERVAL;VALUE=DURATION:PT1H
X-Robots-Tag:noindex
X-PUBLISHED-TTL:PT1H
BEGIN:VTIMEZONE
TZID:Europe/Madrid
BEGIN:DAYLIGHT
TZOFFSETFROM:+0100
TZOFFSETTO:+0200
TZNAME:CEST
DTSTART:20260329T010000
END:DAYLIGHT
BEGIN:STANDARD
TZOFFSETFROM:+0200
TZOFFSETTO:+0100
TZNAME:CET
DTSTART:20261025T010000
END:STANDARD
END:VTIMEZONE
BEGIN:VEVENT
DTSTART;TZID=Europe/Madrid:20260407T080000
DTEND;TZID=Europe/Madrid:20260518T170000
DTSTAMP:20260420T182802
CREATED:20260401T113358Z
LAST-MODIFIED:20260401T113358Z
UID:4220-1775548800-1779123600@portal.edu.gva.es
SUMMARY:Sol·licitud beques generals curs 2026/2027
DESCRIPTION:
URL:https://portal.edu.gva.es/iesmontserratroig/event/sollicitud-beques-generals-curs-2026-2027/
END:VEVENT
BEGIN:VEVENT
DTSTART;TZID=Europe/Madrid:20260521T090000
DTEND;TZID=Europe/Madrid:20260521T130000
DTSTAMP:20260420T182802
CREATED:20260416T122534Z
LAST-MODIFIED:20260416T122534Z
UID:4277-1779354000-1779368400@portal.edu.gva.es
SUMMARY:Matrícula PAU convocatòria ordinària
DESCRIPTION:
URL:https://portal.edu.gva.es/iesmontserratroig/event/matricula-pau-convocatoria-ordinaria/
END:VEVENT
BEGIN:VEVENT
DTSTART;TZID=Europe/Madrid:20260617T090000
DTEND;TZID=Europe/Madrid:20260617T130000
DTSTAMP:20260420T182802
CREATED:20260416T122644Z
LAST-MODIFIED:20260416T122644Z
UID:4281-1781686800-1781701200@portal.edu.gva.es
SUMMARY:Matrícula PAU convocatòria extraordinària
DESCRIPTION:
URL:https://portal.edu.gva.es/iesmontserratroig/event/matricula-pau-convocatoria-extraordinaria/
END:VEVENT
END:VCALENDAR