BEGIN:VCALENDAR
VERSION:2.0
PRODID:-//IES LA MOLA - ECPv6.10.0//NONSGML v1.0//EN
CALSCALE:GREGORIAN
METHOD:PUBLISH
X-WR-CALNAME:IES LA MOLA
X-ORIGINAL-URL:https://portal.edu.gva.es/ieslamola
X-WR-CALDESC:Eventos para IES LA MOLA
REFRESH-INTERVAL;VALUE=DURATION:PT1H
X-Robots-Tag:noindex
X-PUBLISHED-TTL:PT1H
BEGIN:VTIMEZONE
TZID:Europe/Madrid
BEGIN:DAYLIGHT
TZOFFSETFROM:+0100
TZOFFSETTO:+0200
TZNAME:CEST
DTSTART:20260329T010000
END:DAYLIGHT
BEGIN:STANDARD
TZOFFSETFROM:+0200
TZOFFSETTO:+0100
TZNAME:CET
DTSTART:20261025T010000
END:STANDARD
END:VTIMEZONE
BEGIN:VEVENT
DTSTART;TZID=Europe/Madrid:20260420T090000
DTEND;TZID=Europe/Madrid:20260420T131500
DTSTAMP:20260419T162230
CREATED:20260417T082116Z
LAST-MODIFIED:20260417T082116Z
UID:15813-1776675600-1776690900@portal.edu.gva.es
SUMMARY:Ruta paraje natural estanque del fartet (Novelda)
DESCRIPTION:Organiza Programa Guardabosc.\nAlumnado de 4º PDC.\nProfesorado acompañante: Reme Navarro.
URL:https://portal.edu.gva.es/ieslamola/event/ruta-paraje-natural-estanque-del-fartet-novelda/
CATEGORIES:EXTRAESCOLARES
END:VEVENT
BEGIN:VEVENT
DTSTART;TZID=Europe/Madrid:20260420T111000
DTEND;TZID=Europe/Madrid:20260420T120500
DTSTAMP:20260419T162230
CREATED:20260327T054644Z
LAST-MODIFIED:20260327T054644Z
UID:15678-1776683400-1776686700@portal.edu.gva.es
SUMMARY:ARTES ESCÉNICAS 4º ESO
DESCRIPTION:Maria Mira Castelló.\nOptativa 4º ESO.
URL:https://portal.edu.gva.es/ieslamola/event/artes-escenicas-4o-eso-68/
CATEGORIES:RESERVAS AULA TRANSFORMADORA
END:VEVENT
BEGIN:VEVENT
DTSTART;TZID=Europe/Madrid:20260421T080000
DTEND;TZID=Europe/Madrid:20260421T085500
DTSTAMP:20260419T162230
CREATED:20260327T055416Z
LAST-MODIFIED:20260327T055416Z
UID:15698-1776758400-1776761700@portal.edu.gva.es
SUMMARY:PROYECTO INTERDISCIPLINAR 1º ESO
DESCRIPTION:Carlos Sancho Urios.\nMateria Optativa Interdisciplinar: Proyecta\, Construye y Aprende.\nAlumnado 1º ESO.
URL:https://portal.edu.gva.es/ieslamola/event/proyecto-interdisciplinar-1o-eso-24/
CATEGORIES:RESERVAS AULA TRANSFORMADORA
END:VEVENT
BEGIN:VEVENT
DTSTART;TZID=Europe/Madrid:20260421T080000
DTEND;TZID=Europe/Madrid:20260423T150500
DTSTAMP:20260419T162230
CREATED:20260417T080653Z
LAST-MODIFIED:20260417T080653Z
UID:15811-1776758400-1776956700@portal.edu.gva.es
SUMMARY:Viaje a Madrid alumnado 2º y 3º ESO
DESCRIPTION:Organiza Depto. de Música.\nAlumnado de 2º ESO (mayoritariamente)y 3º ESO.\nProfesorado acompañante: Andrés Casanova\, Carmen E. Martínez y Sergio Litarte.
URL:https://portal.edu.gva.es/ieslamola/event/viaje-a-madrid-alumnado-2o-y-3o-eso/
CATEGORIES:EXTRAESCOLARES
END:VEVENT
BEGIN:VEVENT
DTSTART;TZID=Europe/Madrid:20260421T090000
DTEND;TZID=Europe/Madrid:20260421T130000
DTSTAMP:20260419T162230
CREATED:20260417T082237Z
LAST-MODIFIED:20260417T082237Z
UID:15815-1776762000-1776776400@portal.edu.gva.es
SUMMARY:Ruta paraje natural estanque del fartet (Novelda)
DESCRIPTION:Organiza Programa Guardabosc.\nAlumnado de 1º CFGM Actividades Comerciales.\nProfesorado acompañante: Elisabet Torró.
URL:https://portal.edu.gva.es/ieslamola/event/ruta-paraje-natural-estanque-del-fartet-novelda-2/
CATEGORIES:EXTRAESCOLARES
END:VEVENT
BEGIN:VEVENT
DTSTART;TZID=Europe/Madrid:20260422T080000
DTEND;TZID=Europe/Madrid:20260422T085500
DTSTAMP:20260419T162230
CREATED:20260327T054959Z
LAST-MODIFIED:20260327T054959Z
UID:15688-1776844800-1776848100@portal.edu.gva.es
SUMMARY:ARTES ESCÉNICAS 4º ESO
DESCRIPTION:Maria Mira Castelló.\nOptativa 4º ESO.
URL:https://portal.edu.gva.es/ieslamola/event/artes-escenicas-4o-eso-73/
CATEGORIES:RESERVAS AULA TRANSFORMADORA
END:VEVENT
BEGIN:VEVENT
DTSTART;TZID=Europe/Madrid:20260422T111000
DTEND;TZID=Europe/Madrid:20260422T120500
DTSTAMP:20260419T162230
CREATED:20260327T055748Z
LAST-MODIFIED:20260327T055748Z
UID:15708-1776856200-1776859500@portal.edu.gva.es
SUMMARY:TALLER PROFUNDIZACIÓN 2º ESO
DESCRIPTION:Rebeca Soler Seller.\nOptativa Taller de Profundización de Castellano 2º ESO.
URL:https://portal.edu.gva.es/ieslamola/event/taller-profundizacion-2o-eso-26/
CATEGORIES:RESERVAS AULA TRANSFORMADORA
END:VEVENT
BEGIN:VEVENT
DTSTART;TZID=Europe/Madrid:20260422T181000
DTEND;TZID=Europe/Madrid:20260422T200000
DTSTAMP:20260419T162230
CREATED:20260327T060935Z
LAST-MODIFIED:20260327T060935Z
UID:15728-1776881400-1776888000@portal.edu.gva.es
SUMMARY:RESERVA AT
DESCRIPTION:PELÁEZ PRIETO\, ANA Mª.\nAlumnado de 2º CFGM SMR.\nProyecto: Exposición de trabajos del PI.\nMetodologías activas: Aprendizaje Basado en Proyectos\, Aprendizaje Basado en la Investigación.\nHerramientas: Pantallas PDI.
URL:https://portal.edu.gva.es/ieslamola/event/reserva-at-218/
CATEGORIES:RESERVAS AULA TRANSFORMADORA
END:VEVENT
BEGIN:VEVENT
DTSTART;TZID=Europe/Madrid:20260424T083000
DTEND;TZID=Europe/Madrid:20260424T111000
DTSTAMP:20260419T162230
CREATED:20260417T082929Z
LAST-MODIFIED:20260417T082929Z
UID:15817-1777019400-1777029000@portal.edu.gva.es
SUMMARY:Feria de Formación y Ocupación 2026
DESCRIPTION:Organiza Depto. de Orientación.\nAlumnado de 4º ESO\, 1º BACH y 2º BACH.\nLugar: IES El Vinalopó (Novelda)
URL:https://portal.edu.gva.es/ieslamola/event/feria-de-formacion-y-ocupacion-2026/
CATEGORIES:EXTRAESCOLARES
END:VEVENT
BEGIN:VEVENT
DTSTART;TZID=Europe/Madrid:20260424T095000
DTEND;TZID=Europe/Madrid:20260424T104500
DTSTAMP:20260419T162230
CREATED:20260327T060145Z
LAST-MODIFIED:20260327T060145Z
UID:15718-1777024200-1777027500@portal.edu.gva.es
SUMMARY:TALLER PROFUNDIZACIÓN 1º ESO
DESCRIPTION:Víctor Hernández Torregrosa.\nMateria Optativa Taller Profundización de Matemáticas (1º ESO).
URL:https://portal.edu.gva.es/ieslamola/event/taller-profundizacion-1o-eso-27/
CATEGORIES:RESERVAS AULA TRANSFORMADORA
END:VEVENT
BEGIN:VEVENT
DTSTART;TZID=Europe/Madrid:20260427T111000
DTEND;TZID=Europe/Madrid:20260427T120500
DTSTAMP:20260419T162230
CREATED:20260327T054719Z
LAST-MODIFIED:20260327T054719Z
UID:15680-1777288200-1777291500@portal.edu.gva.es
SUMMARY:ARTES ESCÉNICAS 4º ESO
DESCRIPTION:Maria Mira Castelló.\nOptativa 4º ESO.
URL:https://portal.edu.gva.es/ieslamola/event/artes-escenicas-4o-eso-69/
CATEGORIES:RESERVAS AULA TRANSFORMADORA
END:VEVENT
BEGIN:VEVENT
DTSTART;TZID=Europe/Madrid:20260428T080000
DTEND;TZID=Europe/Madrid:20260428T085500
DTSTAMP:20260419T162230
CREATED:20260327T055445Z
LAST-MODIFIED:20260327T055445Z
UID:15700-1777363200-1777366500@portal.edu.gva.es
SUMMARY:PROYECTO INTERDISCIPLINAR 1º ESO
DESCRIPTION:Carlos Sancho Urios.\nMateria Optativa Interdisciplinar: Proyecta\, Construye y Aprende.\nAlumnado 1º ESO.
URL:https://portal.edu.gva.es/ieslamola/event/proyecto-interdisciplinar-1o-eso-25/
CATEGORIES:RESERVAS AULA TRANSFORMADORA
END:VEVENT
BEGIN:VEVENT
DTSTART;TZID=Europe/Madrid:20260429T080000
DTEND;TZID=Europe/Madrid:20260429T085500
DTSTAMP:20260419T162230
CREATED:20260327T055028Z
LAST-MODIFIED:20260327T055028Z
UID:15690-1777449600-1777452900@portal.edu.gva.es
SUMMARY:ARTES ESCÉNICAS 4º ESO
DESCRIPTION:Maria Mira Castelló.\nOptativa 4º ESO.
URL:https://portal.edu.gva.es/ieslamola/event/artes-escenicas-4o-eso-74/
CATEGORIES:RESERVAS AULA TRANSFORMADORA
END:VEVENT
BEGIN:VEVENT
DTSTART;TZID=Europe/Madrid:20260429T080000
DTEND;TZID=Europe/Madrid:20260429T150500
DTSTAMP:20260419T162230
CREATED:20260417T114024Z
LAST-MODIFIED:20260417T114024Z
UID:15819-1777449600-1777475100@portal.edu.gva.es
SUMMARY:Visita al Museo Arqueológico de Alicante
DESCRIPTION:Organiza Depto. de Lengua Castellana y Literatura.\nAlumnado de 2º CFGB de Servicios Comerciales y Jardinería.\nProfesorado responsable: Ana Garrigós y Clara Navarro.
URL:https://portal.edu.gva.es/ieslamola/event/visita-al-museo-arqueologico-de-alicante-2/
CATEGORIES:EXTRAESCOLARES
END:VEVENT
BEGIN:VEVENT
DTSTART;TZID=Europe/Madrid:20260429T111000
DTEND;TZID=Europe/Madrid:20260429T120500
DTSTAMP:20260419T162230
CREATED:20260327T055823Z
LAST-MODIFIED:20260327T055823Z
UID:15710-1777461000-1777464300@portal.edu.gva.es
SUMMARY:TALLER PROFUNDIZACIÓN 2º ESO
DESCRIPTION:Rebeca Soler Seller.\nOptativa Taller de Profundización de Castellano 2º ESO.
URL:https://portal.edu.gva.es/ieslamola/event/taller-profundizacion-2o-eso-27/
CATEGORIES:RESERVAS AULA TRANSFORMADORA
END:VEVENT
BEGIN:VEVENT
DTSTART;TZID=Europe/Madrid:20260429T181000
DTEND;TZID=Europe/Madrid:20260429T200000
DTSTAMP:20260419T162230
CREATED:20260327T061012Z
LAST-MODIFIED:20260327T061012Z
UID:15730-1777486200-1777492800@portal.edu.gva.es
SUMMARY:RESERVA AT
DESCRIPTION:PELÁEZ PRIETO\, ANA Mª.\nAlumnado de 2º CFGM SMR.\nProyecto: Exposición de trabajos del PI.\nMetodologías activas: Aprendizaje Basado en Proyectos\, Aprendizaje Basado en la Investigación.\nHerramientas: Pantallas PDI.
URL:https://portal.edu.gva.es/ieslamola/event/reserva-at-219/
CATEGORIES:RESERVAS AULA TRANSFORMADORA
END:VEVENT
BEGIN:VEVENT
DTSTART;TZID=Europe/Madrid:20260501T095000
DTEND;TZID=Europe/Madrid:20260501T104500
DTSTAMP:20260419T162230
CREATED:20260327T060224Z
LAST-MODIFIED:20260327T060224Z
UID:15720-1777629000-1777632300@portal.edu.gva.es
SUMMARY:TALLER PROFUNDIZACIÓN 1º ESO
DESCRIPTION:Víctor Hernández Torregrosa.\nMateria Optativa Taller Profundización de Matemáticas (1º ESO).
URL:https://portal.edu.gva.es/ieslamola/event/taller-profundizacion-1o-eso-28/
CATEGORIES:RESERVAS AULA TRANSFORMADORA
END:VEVENT
BEGIN:VEVENT
DTSTART;TZID=Europe/Madrid:20260504T111000
DTEND;TZID=Europe/Madrid:20260504T120500
DTSTAMP:20260419T162230
CREATED:20260327T054803Z
LAST-MODIFIED:20260327T054803Z
UID:15682-1777893000-1777896300@portal.edu.gva.es
SUMMARY:ARTES ESCÉNICAS 4º ESO
DESCRIPTION:Maria Mira Castelló.\nOptativa 4º ESO.
URL:https://portal.edu.gva.es/ieslamola/event/artes-escenicas-4o-eso-70/
CATEGORIES:RESERVAS AULA TRANSFORMADORA
END:VEVENT
BEGIN:VEVENT
DTSTART;TZID=Europe/Madrid:20260505T080000
DTEND;TZID=Europe/Madrid:20260505T085500
DTSTAMP:20260419T162230
CREATED:20260327T055520Z
LAST-MODIFIED:20260327T055520Z
UID:15702-1777968000-1777971300@portal.edu.gva.es
SUMMARY:PROYECTO INTERDISCIPLINAR 1º ESO
DESCRIPTION:Carlos Sancho Urios.\nMateria Optativa Interdisciplinar: Proyecta\, Construye y Aprende.\nAlumnado 1º ESO.
URL:https://portal.edu.gva.es/ieslamola/event/proyecto-interdisciplinar-1o-eso-26/
CATEGORIES:RESERVAS AULA TRANSFORMADORA
END:VEVENT
BEGIN:VEVENT
DTSTART;TZID=Europe/Madrid:20260506T080000
DTEND;TZID=Europe/Madrid:20260506T085500
DTSTAMP:20260419T162230
CREATED:20260327T055102Z
LAST-MODIFIED:20260327T055102Z
UID:15692-1778054400-1778057700@portal.edu.gva.es
SUMMARY:ARTES ESCÉNICAS 4º ESO
DESCRIPTION:Maria Mira Castelló.\nOptativa 4º ESO.
URL:https://portal.edu.gva.es/ieslamola/event/artes-escenicas-4o-eso-75/
CATEGORIES:RESERVAS AULA TRANSFORMADORA
END:VEVENT
BEGIN:VEVENT
DTSTART;TZID=Europe/Madrid:20260506T111000
DTEND;TZID=Europe/Madrid:20260506T120500
DTSTAMP:20260419T162230
CREATED:20260327T055900Z
LAST-MODIFIED:20260327T055900Z
UID:15712-1778065800-1778069100@portal.edu.gva.es
SUMMARY:TALLER PROFUNDIZACIÓN 2º ESO
DESCRIPTION:Rebeca Soler Seller.\nOptativa Taller de Profundización de Castellano 2º ESO.
URL:https://portal.edu.gva.es/ieslamola/event/taller-profundizacion-2o-eso-28/
CATEGORIES:RESERVAS AULA TRANSFORMADORA
END:VEVENT
BEGIN:VEVENT
DTSTART;TZID=Europe/Madrid:20260506T181000
DTEND;TZID=Europe/Madrid:20260506T200000
DTSTAMP:20260419T162230
CREATED:20260327T061049Z
LAST-MODIFIED:20260327T061049Z
UID:15732-1778091000-1778097600@portal.edu.gva.es
SUMMARY:RESERVA AT
DESCRIPTION:PELÁEZ PRIETO\, ANA Mª.\nAlumnado de 2º CFGM SMR.\nProyecto: Exposición de trabajos del PI.\nMetodologías activas: Aprendizaje Basado en Proyectos\, Aprendizaje Basado en la Investigación.\nHerramientas: Pantallas PDI.
URL:https://portal.edu.gva.es/ieslamola/event/reserva-at-220/
CATEGORIES:RESERVAS AULA TRANSFORMADORA
END:VEVENT
BEGIN:VEVENT
DTSTART;TZID=Europe/Madrid:20260508T095000
DTEND;TZID=Europe/Madrid:20260508T104500
DTSTAMP:20260419T162230
CREATED:20260327T060300Z
LAST-MODIFIED:20260327T060300Z
UID:15722-1778233800-1778237100@portal.edu.gva.es
SUMMARY:TALLER PROFUNDIZACIÓN 1º ESO
DESCRIPTION:Víctor Hernández Torregrosa.\nMateria Optativa Taller Profundización de Matemáticas (1º ESO).
URL:https://portal.edu.gva.es/ieslamola/event/taller-profundizacion-1o-eso-29/
CATEGORIES:RESERVAS AULA TRANSFORMADORA
END:VEVENT
BEGIN:VEVENT
DTSTART;TZID=Europe/Madrid:20260511T080000
DTEND;TZID=Europe/Madrid:20260511T170000
DTSTAMP:20260419T162230
CREATED:20260327T054831Z
LAST-MODIFIED:20260327T054831Z
UID:15684-1778486400-1778518800@portal.edu.gva.es
SUMMARY:ARTES ESCÉNICAS 4º ESO
DESCRIPTION:Maria Mira Castelló.\nOptativa 4º ESO.
URL:https://portal.edu.gva.es/ieslamola/event/artes-escenicas-4o-eso-71/
CATEGORIES:RESERVAS AULA TRANSFORMADORA
END:VEVENT
BEGIN:VEVENT
DTSTART;TZID=Europe/Madrid:20260512T080000
DTEND;TZID=Europe/Madrid:20260512T085500
DTSTAMP:20260419T162230
CREATED:20260327T055551Z
LAST-MODIFIED:20260327T055551Z
UID:15704-1778572800-1778576100@portal.edu.gva.es
SUMMARY:PROYECTO INTERDISCIPLINAR 1º ESO
DESCRIPTION:Carlos Sancho Urios.\nMateria Optativa Interdisciplinar: Proyecta\, Construye y Aprende.\nAlumnado 1º ESO.
URL:https://portal.edu.gva.es/ieslamola/event/proyecto-interdisciplinar-1o-eso-27/
CATEGORIES:RESERVAS AULA TRANSFORMADORA
END:VEVENT
BEGIN:VEVENT
DTSTART;TZID=Europe/Madrid:20260513T080000
DTEND;TZID=Europe/Madrid:20260513T085500
DTSTAMP:20260419T162230
CREATED:20260327T055130Z
LAST-MODIFIED:20260327T055130Z
UID:15694-1778659200-1778662500@portal.edu.gva.es
SUMMARY:ARTES ESCÉNICAS 4º ESO
DESCRIPTION:Maria Mira Castelló.\nOptativa 4º ESO.
URL:https://portal.edu.gva.es/ieslamola/event/artes-escenicas-4o-eso-76/
CATEGORIES:RESERVAS AULA TRANSFORMADORA
END:VEVENT
BEGIN:VEVENT
DTSTART;TZID=Europe/Madrid:20260513T111000
DTEND;TZID=Europe/Madrid:20260513T120500
DTSTAMP:20260419T162230
CREATED:20260327T055932Z
LAST-MODIFIED:20260327T055932Z
UID:15714-1778670600-1778673900@portal.edu.gva.es
SUMMARY:TALLER PROFUNDIZACIÓN 2º ESO
DESCRIPTION:Rebeca Soler Seller.\nOptativa Taller de Profundización de Castellano 2º ESO.
URL:https://portal.edu.gva.es/ieslamola/event/taller-profundizacion-2o-eso-29/
CATEGORIES:RESERVAS AULA TRANSFORMADORA
END:VEVENT
BEGIN:VEVENT
DTSTART;TZID=Europe/Madrid:20260513T181000
DTEND;TZID=Europe/Madrid:20260513T200000
DTSTAMP:20260419T162230
CREATED:20260327T061128Z
LAST-MODIFIED:20260327T061128Z
UID:15734-1778695800-1778702400@portal.edu.gva.es
SUMMARY:RESERVA AT
DESCRIPTION:PELÁEZ PRIETO\, ANA Mª.\nAlumnado de 2º CFGM SMR.\nProyecto: Exposición de trabajos del PI.\nMetodologías activas: Aprendizaje Basado en Proyectos\, Aprendizaje Basado en la Investigación.\nHerramientas: Pantallas PDI.
URL:https://portal.edu.gva.es/ieslamola/event/reserva-at-221/
CATEGORIES:RESERVAS AULA TRANSFORMADORA
END:VEVENT
BEGIN:VEVENT
DTSTART;TZID=Europe/Madrid:20260515T095000
DTEND;TZID=Europe/Madrid:20260515T104500
DTSTAMP:20260419T162230
CREATED:20260327T060333Z
LAST-MODIFIED:20260327T060333Z
UID:15724-1778838600-1778841900@portal.edu.gva.es
SUMMARY:TALLER PROFUNDIZACIÓN 1º ESO
DESCRIPTION:Víctor Hernández Torregrosa.\nMateria Optativa Taller Profundización de Matemáticas (1º ESO).
URL:https://portal.edu.gva.es/ieslamola/event/taller-profundizacion-1o-eso-30/
CATEGORIES:RESERVAS AULA TRANSFORMADORA
END:VEVENT
BEGIN:VEVENT
DTSTART;TZID=Europe/Madrid:20260529T165500
DTEND;TZID=Europe/Madrid:20260529T200000
DTSTAMP:20260419T162230
CREATED:20260327T060630Z
LAST-MODIFIED:20260327T060630Z
UID:15726-1780073700-1780084800@portal.edu.gva.es
SUMMARY:RESERVA AT
DESCRIPTION:PONS GONZÁLEZ\, JUAN.\nAlumnado de 2º CFGS DAM.\nProyecto: PRESENTACIÓ PROJECTES INTERMODULAR 2º DAM.\nMetodologías activas: Presentación.\nHerramientas: Pizarra digital\, dispositivos móviles (teléfonos\, tabletas y ordenadores).
URL:https://portal.edu.gva.es/ieslamola/event/reserva-at-217/
CATEGORIES:RESERVAS AULA TRANSFORMADORA
END:VEVENT
END:VCALENDAR