BEGIN:VCALENDAR
VERSION:2.0
PRODID:-//IES LA MOLA - ECPv6.10.0//NONSGML v1.0//EN
CALSCALE:GREGORIAN
METHOD:PUBLISH
X-WR-CALNAME:IES LA MOLA
X-ORIGINAL-URL:https://portal.edu.gva.es/ieslamola
X-WR-CALDESC:Eventos para IES LA MOLA
REFRESH-INTERVAL;VALUE=DURATION:PT1H
X-Robots-Tag:noindex
X-PUBLISHED-TTL:PT1H
BEGIN:VTIMEZONE
TZID:Europe/Madrid
BEGIN:DAYLIGHT
TZOFFSETFROM:+0100
TZOFFSETTO:+0200
TZNAME:CEST
DTSTART:20260329T010000
END:DAYLIGHT
BEGIN:STANDARD
TZOFFSETFROM:+0200
TZOFFSETTO:+0100
TZNAME:CET
DTSTART:20261025T010000
END:STANDARD
END:VTIMEZONE
BEGIN:VEVENT
DTSTART;TZID=Europe/Madrid:20260421T080000
DTEND;TZID=Europe/Madrid:20260423T150500
DTSTAMP:20260422T045750
CREATED:20260417T080653Z
LAST-MODIFIED:20260417T080653Z
UID:15811-1776758400-1776956700@portal.edu.gva.es
SUMMARY:Viaje a Madrid alumnado 2º y 3º ESO
DESCRIPTION:Organiza Depto. de Música.\nAlumnado de 2º ESO (mayoritariamente)y 3º ESO.\nProfesorado acompañante: Andrés Casanova\, Carmen E. Martínez y Sergio Litarte.
URL:https://portal.edu.gva.es/ieslamola/event/viaje-a-madrid-alumnado-2o-y-3o-eso/
CATEGORIES:EXTRAESCOLARES
END:VEVENT
BEGIN:VEVENT
DTSTART;TZID=Europe/Madrid:20260422T080000
DTEND;TZID=Europe/Madrid:20260422T085500
DTSTAMP:20260422T045750
CREATED:20260327T054959Z
LAST-MODIFIED:20260327T054959Z
UID:15688-1776844800-1776848100@portal.edu.gva.es
SUMMARY:ARTES ESCÉNICAS 4º ESO
DESCRIPTION:Maria Mira Castelló.\nOptativa 4º ESO.
URL:https://portal.edu.gva.es/ieslamola/event/artes-escenicas-4o-eso-73/
CATEGORIES:RESERVAS AULA TRANSFORMADORA
END:VEVENT
BEGIN:VEVENT
DTSTART;TZID=Europe/Madrid:20260422T111000
DTEND;TZID=Europe/Madrid:20260422T120500
DTSTAMP:20260422T045750
CREATED:20260327T055748Z
LAST-MODIFIED:20260327T055748Z
UID:15708-1776856200-1776859500@portal.edu.gva.es
SUMMARY:TALLER PROFUNDIZACIÓN 2º ESO
DESCRIPTION:Rebeca Soler Seller.\nOptativa Taller de Profundización de Castellano 2º ESO.
URL:https://portal.edu.gva.es/ieslamola/event/taller-profundizacion-2o-eso-26/
CATEGORIES:RESERVAS AULA TRANSFORMADORA
END:VEVENT
BEGIN:VEVENT
DTSTART;TZID=Europe/Madrid:20260422T181000
DTEND;TZID=Europe/Madrid:20260422T200000
DTSTAMP:20260422T045750
CREATED:20260327T060935Z
LAST-MODIFIED:20260327T060935Z
UID:15728-1776881400-1776888000@portal.edu.gva.es
SUMMARY:RESERVA AT
DESCRIPTION:PELÁEZ PRIETO\, ANA Mª.\nAlumnado de 2º CFGM SMR.\nProyecto: Exposición de trabajos del PI.\nMetodologías activas: Aprendizaje Basado en Proyectos\, Aprendizaje Basado en la Investigación.\nHerramientas: Pantallas PDI.
URL:https://portal.edu.gva.es/ieslamola/event/reserva-at-218/
CATEGORIES:RESERVAS AULA TRANSFORMADORA
END:VEVENT
END:VCALENDAR