BEGIN:VCALENDAR
VERSION:2.0
PRODID:-//IES LA MOLA - ECPv6.10.0//NONSGML v1.0//EN
CALSCALE:GREGORIAN
METHOD:PUBLISH
X-WR-CALNAME:IES LA MOLA
X-ORIGINAL-URL:https://portal.edu.gva.es/ieslamola
X-WR-CALDESC:Eventos para IES LA MOLA
REFRESH-INTERVAL;VALUE=DURATION:PT1H
X-Robots-Tag:noindex
X-PUBLISHED-TTL:PT1H
BEGIN:VTIMEZONE
TZID:Europe/Madrid
BEGIN:DAYLIGHT
TZOFFSETFROM:+0100
TZOFFSETTO:+0200
TZNAME:CEST
DTSTART:20260329T010000
END:DAYLIGHT
BEGIN:STANDARD
TZOFFSETFROM:+0200
TZOFFSETTO:+0100
TZNAME:CET
DTSTART:20261025T010000
END:STANDARD
END:VTIMEZONE
BEGIN:VEVENT
DTSTART;TZID=Europe/Madrid:20260417T095000
DTEND;TZID=Europe/Madrid:20260417T104500
DTSTAMP:20260423T070919
CREATED:20260327T060112Z
LAST-MODIFIED:20260327T060112Z
UID:15716-1776419400-1776422700@portal.edu.gva.es
SUMMARY:TALLER PROFUNDIZACIÓN 1º ESO
DESCRIPTION:Víctor Hernández Torregrosa.\nMateria Optativa Taller Profundización de Matemáticas (1º ESO).
URL:https://portal.edu.gva.es/ieslamola/event/taller-profundizacion-1o-eso-26/
CATEGORIES:RESERVAS AULA TRANSFORMADORA
END:VEVENT
BEGIN:VEVENT
DTSTART;TZID=Europe/Madrid:20260417T131500
DTEND;TZID=Europe/Madrid:20260417T141000
DTSTAMP:20260423T070919
CREATED:20260415T114905Z
LAST-MODIFIED:20260415T114905Z
UID:15801-1776431700-1776435000@portal.edu.gva.es
SUMMARY:RESERVA AT
DESCRIPTION:NAVARRO MARTÍNEZ\, CLARA.\nAlumnado 1º ESO A.\nProyecto: Presentamos BiblioMola.\nMetodologías activas: Aprendizaje-servicio.\nHerramientas: Biblioteca.
URL:https://portal.edu.gva.es/ieslamola/event/reserva-at-225/
CATEGORIES:RESERVAS AULA TRANSFORMADORA
END:VEVENT
BEGIN:VEVENT
DTSTART;TZID=Europe/Madrid:20260417T190000
DTEND;TZID=Europe/Madrid:20260417T210000
DTSTAMP:20260423T070919
CREATED:20260330T195850Z
LAST-MODIFIED:20260330T195850Z
UID:15744-1776452400-1776459600@portal.edu.gva.es
SUMMARY:RESERVA AT
DESCRIPTION:Sonia Llácer.\nAlumnado de 1º CFGS MKT y PUBLI.\nProyecto: ROLE PLAY_PRESENTACIÓN PROPUESTAS AGENCIAS SIMULANDO RECOGIDA BRIEFING REAL.\nMetodologías activas: Aprendizaje Basado en Proyectos\, Aprendizaje Basado en la Investigación\, Aprendizaje cooperativo\, Desing Thinking.\nHerramientas: Pizarra digital y espacio con reubicación de mesas para simular espacio real de trabajo en Agencias-Dpto. Mk
URL:https://portal.edu.gva.es/ieslamola/event/reserva-at-223/
CATEGORIES:RESERVAS AULA TRANSFORMADORA
END:VEVENT
END:VCALENDAR