BEGIN:VCALENDAR
VERSION:2.0
PRODID:-//IES LA MOLA - ECPv6.10.0//NONSGML v1.0//EN
CALSCALE:GREGORIAN
METHOD:PUBLISH
X-WR-CALNAME:IES LA MOLA
X-ORIGINAL-URL:https://portal.edu.gva.es/ieslamola
X-WR-CALDESC:Eventos para IES LA MOLA
REFRESH-INTERVAL;VALUE=DURATION:PT1H
X-Robots-Tag:noindex
X-PUBLISHED-TTL:PT1H
BEGIN:VTIMEZONE
TZID:Europe/Madrid
BEGIN:DAYLIGHT
TZOFFSETFROM:+0100
TZOFFSETTO:+0200
TZNAME:CEST
DTSTART:20260329T010000
END:DAYLIGHT
BEGIN:STANDARD
TZOFFSETFROM:+0200
TZOFFSETTO:+0100
TZNAME:CET
DTSTART:20261025T010000
END:STANDARD
END:VTIMEZONE
BEGIN:VEVENT
DTSTART;TZID=Europe/Madrid:20260416T190500
DTEND;TZID=Europe/Madrid:20260416T205500
DTSTAMP:20260423T012537
CREATED:20260414T202201Z
LAST-MODIFIED:20260414T202201Z
UID:15799-1776366300-1776372900@portal.edu.gva.es
SUMMARY:RESERVA AT
DESCRIPTION:Sonia Llácer.\nAlumnado de 1º CFGS G.VTAS y EP.\nProyecto: ROLE PLAY_PRESENTACIONES INVESTIGACIONES REALIZADAS POR AGENCIAS SIMULADAS.\nMetodologías activas: Aprendizaje Basado en Proyectos\, Aprendizaje Basado en la Investigación.\nHerramientas: Pizarra digital y mobiliario aula transformadora.
URL:https://portal.edu.gva.es/ieslamola/event/reserva-at-224/
CATEGORIES:RESERVAS AULA TRANSFORMADORA
END:VEVENT
END:VCALENDAR