BEGIN:VCALENDAR
VERSION:2.0
PRODID:-//IES EL VINALOPÓ - ECPv6.10.0//NONSGML v1.0//EN
CALSCALE:GREGORIAN
METHOD:PUBLISH
X-WR-CALNAME:IES EL VINALOPÓ
X-ORIGINAL-URL:https://portal.edu.gva.es/ieselvinalopo
X-WR-CALDESC:Eventos para IES EL VINALOPÓ
REFRESH-INTERVAL;VALUE=DURATION:PT1H
X-Robots-Tag:noindex
X-PUBLISHED-TTL:PT1H
BEGIN:VTIMEZONE
TZID:Europe/Helsinki
BEGIN:DAYLIGHT
TZOFFSETFROM:+0200
TZOFFSETTO:+0300
TZNAME:EEST
DTSTART:20240331T010000
END:DAYLIGHT
BEGIN:STANDARD
TZOFFSETFROM:+0300
TZOFFSETTO:+0200
TZNAME:EET
DTSTART:20241027T010000
END:STANDARD
END:VTIMEZONE
BEGIN:VEVENT
DTSTART;TZID=Europe/Helsinki:20241211T080000
DTEND;TZID=Europe/Helsinki:20241211T170000
DTSTAMP:20260420T132447
CREATED:20241203T094723Z
LAST-MODIFIED:20241203T094723Z
UID:10625-1733904000-1733936400@portal.edu.gva.es
SUMMARY:Charla primeros auxilios
DESCRIPTION:El alumnado de 1º de ciclos y de FP básica de las diferentes familias profesionales reciben charlas de primeros auxilios a a cargo de la cruz roja.
URL:https://portal.edu.gva.es/ieselvinalopo/es/event/charla-primeros-auxilios/
END:VEVENT
BEGIN:VEVENT
DTSTART;TZID=Europe/Helsinki:20241211T110000
DTEND;TZID=Europe/Helsinki:20241211T140000
DTSTAMP:20260420T132447
CREATED:20241011T063904Z
LAST-MODIFIED:20241011T063904Z
UID:10333-1733914800-1733925600@portal.edu.gva.es
SUMMARY:Competición atletismo
DESCRIPTION:Los alumnos de 2ºESO A participan en una competición de atletismo en el polideportivo municipal
URL:https://portal.edu.gva.es/ieselvinalopo/es/event/competicion-atletismo-2/
END:VEVENT
END:VCALENDAR