BEGIN:VCALENDAR
VERSION:2.0
PRODID:-//IES ABASTOS - ECPv6.10.0//NONSGML v1.0//EN
CALSCALE:GREGORIAN
METHOD:PUBLISH
X-WR-CALNAME:IES ABASTOS
X-ORIGINAL-URL:https://portal.edu.gva.es/iesabastos
X-WR-CALDESC:Eventos para IES ABASTOS
REFRESH-INTERVAL;VALUE=DURATION:PT1H
X-Robots-Tag:noindex
X-PUBLISHED-TTL:PT1H
BEGIN:VTIMEZONE
TZID:Europe/Paris
BEGIN:DAYLIGHT
TZOFFSETFROM:+0100
TZOFFSETTO:+0200
TZNAME:CEST
DTSTART:20210328T010000
END:DAYLIGHT
BEGIN:STANDARD
TZOFFSETFROM:+0200
TZOFFSETTO:+0100
TZNAME:CET
DTSTART:20211031T010000
END:STANDARD
END:VTIMEZONE
BEGIN:VEVENT
DTSTART;TZID=Europe/Paris:20210208T113000
DTEND;TZID=Europe/Paris:20210208T143000
DTSTAMP:20260420T222000
CREATED:20210115T122453Z
LAST-MODIFIED:20210205T100848Z
UID:1085-1612783800-1612794600@portal.edu.gva.es
SUMMARY:Prueba homologada Nivel A2 inglés
DESCRIPTION:Espacios:\n– Salón de Actos\n– Aula 121\nLos alumnos y alumnas que deben de ir a cada uno de esos espacios están relacionados en el tablón de anuncios de la Secretaria de ESO-Bachillerato.
URL:https://portal.edu.gva.es/iesabastos/es/event/prueba-homologada-nivel-a2-ingles/
END:VEVENT
END:VCALENDAR