BEGIN:VCALENDAR
VERSION:2.0
PRODID:-//Aula Didàctica Saguntina Domus Baebia - ECPv6.10.0//NONSGML v1.0//EN
CALSCALE:GREGORIAN
METHOD:PUBLISH
X-WR-CALNAME:Aula Didàctica Saguntina Domus Baebia
X-ORIGINAL-URL:https://portal.edu.gva.es/domusbaebia
X-WR-CALDESC:Eventos para Aula Didàctica Saguntina Domus Baebia
REFRESH-INTERVAL;VALUE=DURATION:PT1H
X-Robots-Tag:noindex
X-PUBLISHED-TTL:PT1H
BEGIN:VTIMEZONE
TZID:Europe/Madrid
BEGIN:DAYLIGHT
TZOFFSETFROM:+0100
TZOFFSETTO:+0200
TZNAME:CEST
DTSTART:20250330T010000
END:DAYLIGHT
BEGIN:STANDARD
TZOFFSETFROM:+0200
TZOFFSETTO:+0100
TZNAME:CET
DTSTART:20251026T010000
END:STANDARD
END:VTIMEZONE
BEGIN:VEVENT
DTSTART;TZID=Europe/Madrid:20251104T100000
DTEND;TZID=Europe/Madrid:20251104T140000
DTSTAMP:20260419T202244
CREATED:20251001T083350Z
LAST-MODIFIED:20251001T083350Z
UID:7084-1762250400-1762264800@portal.edu.gva.es
SUMMARY:CEIP CERVANTES PTO SGTO 50 AL 1º Y 2º MOSAICO+ TEATRO
DESCRIPTION:
URL:https://portal.edu.gva.es/domusbaebia/es/event/ceip-cervantes-pto-sgto-50-al-1o-y-2o-mosaico-teatro/
END:VEVENT
END:VCALENDAR