BEGIN:VCALENDAR
VERSION:2.0
PRODID:-//Aula Didàctica Didín Puig - ECPv6.10.0//NONSGML v1.0//EN
CALSCALE:GREGORIAN
METHOD:PUBLISH
X-ORIGINAL-URL:https://portal.edu.gva.es/didinpuig
X-WR-CALDESC:Eventos para Aula Didàctica Didín Puig
REFRESH-INTERVAL;VALUE=DURATION:PT1H
X-Robots-Tag:noindex
X-PUBLISHED-TTL:PT1H
BEGIN:VTIMEZONE
TZID:Europe/Madrid
BEGIN:DAYLIGHT
TZOFFSETFROM:+0100
TZOFFSETTO:+0200
TZNAME:CEST
DTSTART:20240331T010000
END:DAYLIGHT
BEGIN:STANDARD
TZOFFSETFROM:+0200
TZOFFSETTO:+0100
TZNAME:CET
DTSTART:20241027T010000
END:STANDARD
END:VTIMEZONE
BEGIN:VEVENT
DTSTART;TZID=Europe/Madrid:20240502T080000
DTEND;TZID=Europe/Madrid:20240503T170000
DTSTAMP:20260421T092302
CREATED:20231025T083238Z
LAST-MODIFIED:20231025T083238Z
UID:2881-1714636800-1714755600@portal.edu.gva.es
SUMMARY:Reservat CEIP  Juan Vte. Mora
DESCRIPTION:
URL:https://portal.edu.gva.es/didinpuig/es/event/reservat-ceip-juan-vte-mora-3/
END:VEVENT
BEGIN:VEVENT
DTSTART;VALUE=DATE:20240506
DTEND;VALUE=DATE:20240507
DTSTAMP:20260421T092302
CREATED:20240109T073858Z
LAST-MODIFIED:20240109T073858Z
UID:2971-1714953600-1715039999@portal.edu.gva.es
SUMMARY:Gestió Administrativa
DESCRIPTION:
URL:https://portal.edu.gva.es/didinpuig/es/event/gestio-administrativa-35/
END:VEVENT
BEGIN:VEVENT
DTSTART;VALUE=DATE:20240507
DTEND;VALUE=DATE:20240508
DTSTAMP:20260421T092302
CREATED:20240111T124702Z
LAST-MODIFIED:20240111T124702Z
UID:3053-1715040000-1715126399@portal.edu.gva.es
SUMMARY:Reservat IES Didín Puig (Guadassuar)
DESCRIPTION:
URL:https://portal.edu.gva.es/didinpuig/es/event/reservat-ies-didin-puig-guadassuar/
END:VEVENT
BEGIN:VEVENT
DTSTART;VALUE=DATE:20240513
DTEND;VALUE=DATE:20240514
DTSTAMP:20260421T092302
CREATED:20240109T074016Z
LAST-MODIFIED:20240109T074016Z
UID:2974-1715558400-1715644799@portal.edu.gva.es
SUMMARY:Gestió Administrativa
DESCRIPTION:
URL:https://portal.edu.gva.es/didinpuig/es/event/gestio-administrativa-36/
END:VEVENT
BEGIN:VEVENT
DTSTART;VALUE=DATE:20240514
DTEND;VALUE=DATE:20240517
DTSTAMP:20260421T092302
CREATED:20231020T072720Z
LAST-MODIFIED:20231025T082927Z
UID:2875-1715644800-1715903999@portal.edu.gva.es
SUMMARY:Reservat CEIP Juan Vte. Mora
DESCRIPTION:
URL:https://portal.edu.gva.es/didinpuig/es/event/reservat-ceip-juan-vte-mora/
END:VEVENT
BEGIN:VEVENT
DTSTART;VALUE=DATE:20240520
DTEND;VALUE=DATE:20240521
DTSTAMP:20260421T092302
CREATED:20240109T090452Z
LAST-MODIFIED:20240109T090452Z
UID:2996-1716163200-1716249599@portal.edu.gva.es
SUMMARY:Gestió Administrativa
DESCRIPTION:
URL:https://portal.edu.gva.es/didinpuig/es/event/gestio-administrativa-43/
END:VEVENT
BEGIN:VEVENT
DTSTART;VALUE=DATE:20240521
DTEND;VALUE=DATE:20240522
DTSTAMP:20260421T092302
CREATED:20240429T115024Z
LAST-MODIFIED:20240429T115024Z
UID:3232-1716249600-1716335999@portal.edu.gva.es
SUMMARY:Reserva IES Didín Puig
DESCRIPTION:
URL:https://portal.edu.gva.es/didinpuig/es/event/reserva-ies-didin-puig/
END:VEVENT
BEGIN:VEVENT
DTSTART;VALUE=DATE:20240527
DTEND;VALUE=DATE:20240528
DTSTAMP:20260421T092302
CREATED:20240109T074214Z
LAST-MODIFIED:20240109T074214Z
UID:2977-1716768000-1716854399@portal.edu.gva.es
SUMMARY:Gestió Administrativa
DESCRIPTION:
URL:https://portal.edu.gva.es/didinpuig/es/event/gestio-administrativa-37/
END:VEVENT
BEGIN:VEVENT
DTSTART;VALUE=DATE:20240527
DTEND;VALUE=DATE:20240528
DTSTAMP:20260421T092302
CREATED:20240109T135203Z
LAST-MODIFIED:20240109T135203Z
UID:3002-1716768000-1716854399@portal.edu.gva.es
SUMMARY:Gestió Administrativa
DESCRIPTION:
URL:https://portal.edu.gva.es/didinpuig/es/event/gestio-administrativa-44/
END:VEVENT
END:VCALENDAR