BEGIN:VCALENDAR
VERSION:2.0
PRODID:-//CONSERVATORI PROFESSIONAL DE DANSA DE CASTELLÓ - ECPv6.10.0//NONSGML v1.0//EN
CALSCALE:GREGORIAN
METHOD:PUBLISH
X-ORIGINAL-URL:https://portal.edu.gva.es/conservatoriprofessionaldansacastello
X-WR-CALDESC:Eventos para CONSERVATORI PROFESSIONAL DE DANSA DE CASTELLÓ
REFRESH-INTERVAL;VALUE=DURATION:PT1H
X-Robots-Tag:noindex
X-PUBLISHED-TTL:PT1H
BEGIN:VTIMEZONE
TZID:Europe/Helsinki
BEGIN:DAYLIGHT
TZOFFSETFROM:+0200
TZOFFSETTO:+0300
TZNAME:EEST
DTSTART:20240331T010000
END:DAYLIGHT
BEGIN:STANDARD
TZOFFSETFROM:+0300
TZOFFSETTO:+0200
TZNAME:EET
DTSTART:20241027T010000
END:STANDARD
END:VTIMEZONE
BEGIN:VEVENT
DTSTART;VALUE=DATE:20240201
DTEND;VALUE=DATE:20240202
DTSTAMP:20260422T032112
CREATED:20240131T121533Z
LAST-MODIFIED:20240131T121533Z
UID:4199-1706745600-1706831999@portal.edu.gva.es
SUMMARY:Visita del CSDV. Charla.
DESCRIPTION:Visita del Conservatorio Superior de Danza de Valencia a nuestro centro. \nCharla para alumnado de 5º y 6º curso y familias.
URL:https://portal.edu.gva.es/conservatoriprofessionaldansacastello/es/event/visita-del-csdv-charla/
CATEGORIES:Calendario
END:VEVENT
BEGIN:VEVENT
DTSTART;VALUE=DATE:20240205
DTEND;VALUE=DATE:20240206
DTSTAMP:20260422T032112
CREATED:20240131T122934Z
LAST-MODIFIED:20240131T122934Z
UID:4204-1707091200-1707177599@portal.edu.gva.es
SUMMARY:Proyecto de Innovación e Investigación educativa - Cruz Roja
DESCRIPTION:Charla del colectivo Cruz Roja para 5º curso.
URL:https://portal.edu.gva.es/conservatoriprofessionaldansacastello/es/event/proyecto-de-innovacion-e-investigacion-educativa-cruz-roja/
CATEGORIES:Calendario
END:VEVENT
BEGIN:VEVENT
DTSTART;VALUE=DATE:20240214
DTEND;VALUE=DATE:20240215
DTSTAMP:20260422T032112
CREATED:20240205T175800Z
LAST-MODIFIED:20240205T180055Z
UID:4250-1707868800-1707955199@portal.edu.gva.es
SUMMARY:Master class a cargo de Guillermo Weickert
DESCRIPTION:
URL:https://portal.edu.gva.es/conservatoriprofessionaldansacastello/es/event/master-class-a-carrec-de-guillermo-weickert/
CATEGORIES:Calendario
END:VEVENT
BEGIN:VEVENT
DTSTART;VALUE=DATE:20240217
DTEND;VALUE=DATE:20240218
DTSTAMP:20260422T032112
CREATED:20240205T182137Z
LAST-MODIFIED:20240219T120028Z
UID:4255-1708128000-1708214399@portal.edu.gva.es
SUMMARY:PUERTAS ABIERTAS en el CPDC (alumnado externo)
DESCRIPTION:Clase de clásico: 10:00 a 11:30 h \nClase de contemporánea: 11:30 a 13:00 h \n  \nToda la información aquí: https://portal.edu.gva.es/conservatoriprofessionaldansacastello/es/2024/01/11/puertas-abiertas-al-cpdc/ \n  \n 
URL:https://portal.edu.gva.es/conservatoriprofessionaldansacastello/es/event/puertas-abiertas-en-el-cpdc/
CATEGORIES:Calendario
END:VEVENT
BEGIN:VEVENT
DTSTART;VALUE=DATE:20240219
DTEND;VALUE=DATE:20240224
DTSTAMP:20260422T032112
CREATED:20240219T115557Z
LAST-MODIFIED:20240219T115557Z
UID:4315-1708300800-1708732799@portal.edu.gva.es
SUMMARY:Puertas abiertas para las familias
DESCRIPTION:
URL:https://portal.edu.gva.es/conservatoriprofessionaldansacastello/es/event/puertas-abiertas-para-las-familias/
CATEGORIES:Calendario
END:VEVENT
BEGIN:VEVENT
DTSTART;VALUE=DATE:20240220
DTEND;VALUE=DATE:20240221
DTSTAMP:20260422T032112
CREATED:20240207T115457Z
LAST-MODIFIED:20240219T115939Z
UID:4264-1708387200-1708473599@portal.edu.gva.es
SUMMARY:PUERTAS ABIERTAS en el CPDC (alumnado externo)
DESCRIPTION:Clase de clásico: 17:30 a 18:30 h \nClase de contemporánea: 18:30 a 19:30 h \n  \nToda la información aquí: https://portal.edu.gva.es/conservatoriprofessionaldansacastello/es/2024/01/11/puertas-abiertas-al-cpdc/ \n 
URL:https://portal.edu.gva.es/conservatoriprofessionaldansacastello/es/event/puertas-abiertas-en-el-cpdc-2/
CATEGORIES:Calendario
END:VEVENT
BEGIN:VEVENT
DTSTART;VALUE=DATE:20240223
DTEND;VALUE=DATE:20240224
DTSTAMP:20260422T032112
CREATED:20240207T120027Z
LAST-MODIFIED:20240207T120027Z
UID:4268-1708646400-1708732799@portal.edu.gva.es
SUMMARY:JORNADAS DE DANZA DE RIBA-ROJA DE TURIA
DESCRIPTION:
URL:https://portal.edu.gva.es/conservatoriprofessionaldansacastello/es/event/jornadas-de-danza-de-riba-roja-de-turia/
CATEGORIES:Calendario
END:VEVENT
BEGIN:VEVENT
DTSTART;VALUE=DATE:20240226
DTEND;VALUE=DATE:20240229
DTSTAMP:20260422T032112
CREATED:20240219T120451Z
LAST-MODIFIED:20240219T120451Z
UID:4327-1708905600-1709164799@portal.edu.gva.es
SUMMARY:Pruebas trimestrales equipos docentes
DESCRIPTION:
URL:https://portal.edu.gva.es/conservatoriprofessionaldansacastello/es/event/proves-trimestrals-equips-docents/
CATEGORIES:Calendario
END:VEVENT
END:VCALENDAR