BEGIN:VCALENDAR
VERSION:2.0
PRODID:-//CONSERVATORI PROFESSIONAL DE MÚSICA D&#039;ALTEA - ECPv6.10.0//NONSGML v1.0//EN
CALSCALE:GREGORIAN
METHOD:PUBLISH
X-WR-CALNAME:CONSERVATORI PROFESSIONAL DE MÚSICA D&#039;ALTEA
X-ORIGINAL-URL:https://portal.edu.gva.es/conservatorialtea
X-WR-CALDESC:Eventos para CONSERVATORI PROFESSIONAL DE MÚSICA D&#039;ALTEA
REFRESH-INTERVAL;VALUE=DURATION:PT1H
X-Robots-Tag:noindex
X-PUBLISHED-TTL:PT1H
BEGIN:VTIMEZONE
TZID:Europe/Madrid
BEGIN:DAYLIGHT
TZOFFSETFROM:+0100
TZOFFSETTO:+0200
TZNAME:CEST
DTSTART:20230326T010000
END:DAYLIGHT
BEGIN:STANDARD
TZOFFSETFROM:+0200
TZOFFSETTO:+0100
TZNAME:CET
DTSTART:20231029T010000
END:STANDARD
BEGIN:DAYLIGHT
TZOFFSETFROM:+0100
TZOFFSETTO:+0200
TZNAME:CEST
DTSTART:20240331T010000
END:DAYLIGHT
BEGIN:STANDARD
TZOFFSETFROM:+0200
TZOFFSETTO:+0100
TZNAME:CET
DTSTART:20241027T010000
END:STANDARD
END:VTIMEZONE
BEGIN:VEVENT
DTSTART;TZID=Europe/Madrid:20230511T180000
DTEND;TZID=Europe/Madrid:20230511T193000
DTSTAMP:20260420T050453
CREATED:20230509T111704Z
LAST-MODIFIED:20230509T113256Z
UID:1058-1683828000-1683833400@portal.edu.gva.es
SUMMARY:Conferencia-Concierto
DESCRIPTION:Conferencia concierto sobre Robert Schumann\, a cargo del violonchelista Marcos Ventura y la pianista Maria Eugenia Palomares\, en el aula 2.3 del Conservatorio Profesional de Música de Altea
URL:https://portal.edu.gva.es/conservatorialtea/es/event/conferencia-concierto/
END:VEVENT
BEGIN:VEVENT
DTSTART;TZID=Europe/Madrid:20230525T181500
DTEND;TZID=Europe/Madrid:20230525T201500
DTSTAMP:20260420T050453
CREATED:20230518T102228Z
LAST-MODIFIED:20230518T103708Z
UID:1074-1685038500-1685045700@portal.edu.gva.es
SUMMARY:Concierto de clarinete y piano
DESCRIPTION:Concierto de clarinete y piano a cargo del alumnado del aula de clarinete y repertorio con piano del Conservatorio Superior de Música de Alicante \nEl jueves 25 a las 18:15 en el aula 2.3 del Conservatorio Profesional de Música de Altea
URL:https://portal.edu.gva.es/conservatorialtea/es/event/concierto-de-clarinete-y-piano/
END:VEVENT
BEGIN:VEVENT
DTSTART;TZID=Europe/Madrid:20230531T193000
DTEND;TZID=Europe/Madrid:20230531T210000
DTSTAMP:20260420T050453
CREATED:20230509T110849Z
LAST-MODIFIED:20230509T113152Z
UID:1054-1685561400-1685566800@portal.edu.gva.es
SUMMARY:Concierto Orquesta y Banda Conservatorio Profesional de Música de Altea
DESCRIPTION:Concert al Centre Cultural d’Altea la Vella
URL:https://portal.edu.gva.es/conservatorialtea/es/event/concierto-orquesta-y-banda-conservatorio-profesional-de-musica-de-altea/
END:VEVENT
BEGIN:VEVENT
DTSTART;TZID=Europe/Madrid:20230616T190000
DTEND;TZID=Europe/Madrid:20230616T200000
DTSTAMP:20260420T050453
CREATED:20230519T084337Z
LAST-MODIFIED:20230519T084337Z
UID:1097-1686942000-1686945600@portal.edu.gva.es
SUMMARY:Actuación agrupaciones elementales y banda 1-3 EEPP
DESCRIPTION:El 16 de junio a las 19:00h en el patio del conservatorio tendrá lugar una actuación con las agrupaciones de las enseñanzas elementales y la banda de 1-3 de Enseñanzas Profesionales.
URL:https://portal.edu.gva.es/conservatorialtea/es/event/actuacion-agrupaciones-elementales-y-banda-1-3-eepp/
END:VEVENT
BEGIN:VEVENT
DTSTART;TZID=Europe/Madrid:20240305T190000
DTEND;TZID=Europe/Madrid:20240305T203000
DTSTAMP:20260420T050453
CREATED:20240229T111304Z
LAST-MODIFIED:20240229T111304Z
UID:1784-1709665200-1709670600@portal.edu.gva.es
SUMMARY:Concierto de alumnos dentro del 8 M
DESCRIPTION:
URL:https://portal.edu.gva.es/conservatorialtea/es/event/concierto-de-alumnos-dentro-del-8-m/
END:VEVENT
BEGIN:VEVENT
DTSTART;TZID=Europe/Madrid:20240308T080000
DTEND;TZID=Europe/Madrid:20240310T130000
DTSTAMP:20260420T050453
CREATED:20240229T111433Z
LAST-MODIFIED:20240229T111433Z
UID:1789-1709884800-1710075600@portal.edu.gva.es
SUMMARY:IX Encuentro Orquestas
DESCRIPTION:
URL:https://portal.edu.gva.es/conservatorialtea/es/event/ix-encuentro-orquestas/
END:VEVENT
BEGIN:VEVENT
DTSTART;TZID=Europe/Madrid:20240311T190000
DTEND;TZID=Europe/Madrid:20240311T200000
DTSTAMP:20260420T050453
CREATED:20240229T111639Z
LAST-MODIFIED:20240229T111639Z
UID:1793-1710183600-1710187200@portal.edu.gva.es
SUMMARY:Audición piano
DESCRIPTION:
URL:https://portal.edu.gva.es/conservatorialtea/es/event/audicion-piano/
END:VEVENT
BEGIN:VEVENT
DTSTART;TZID=Europe/Madrid:20240312T200000
DTEND;TZID=Europe/Madrid:20240312T210000
DTSTAMP:20260420T050453
CREATED:20240229T111907Z
LAST-MODIFIED:20240229T111907Z
UID:1798-1710273600-1710277200@portal.edu.gva.es
SUMMARY:Audición clarinete (alumando elemental hasta 3 Profesional)
DESCRIPTION:
URL:https://portal.edu.gva.es/conservatorialtea/es/event/audicion-clarinete-alumando-elemental-hasta-3-profesional/
END:VEVENT
BEGIN:VEVENT
DTSTART;TZID=Europe/Madrid:20240314T200000
DTEND;TZID=Europe/Madrid:20240314T204500
DTSTAMP:20260420T050453
CREATED:20240229T112016Z
LAST-MODIFIED:20240229T112016Z
UID:1802-1710446400-1710449100@portal.edu.gva.es
SUMMARY:Audición clarinete (alumnado de 4 a 6 Profesional)
DESCRIPTION:
URL:https://portal.edu.gva.es/conservatorialtea/es/event/audicion-clarinete-alumnado-de-4-a-6-profesional/
END:VEVENT
BEGIN:VEVENT
DTSTART;TZID=Europe/Madrid:20240322T160000
DTEND;TZID=Europe/Madrid:20240322T200000
DTSTAMP:20260420T050453
CREATED:20240229T112118Z
LAST-MODIFIED:20240229T112118Z
UID:1806-1711123200-1711137600@portal.edu.gva.es
SUMMARY:Encuentro Saxos
DESCRIPTION:
URL:https://portal.edu.gva.es/conservatorialtea/es/event/encuentro-saxos/
END:VEVENT
BEGIN:VEVENT
DTSTART;TZID=Europe/Madrid:20240326T190000
DTEND;TZID=Europe/Madrid:20240326T200000
DTSTAMP:20260420T050453
CREATED:20240306T103832Z
LAST-MODIFIED:20240306T103832Z
UID:1833-1711479600-1711483200@portal.edu.gva.es
SUMMARY:Audición percusión
DESCRIPTION:
URL:https://portal.edu.gva.es/conservatorialtea/es/event/audicion-percusion/
END:VEVENT
END:VCALENDAR