BEGIN:VCALENDAR
VERSION:2.0
PRODID:-//CECV - ECPv6.10.0//NONSGML v1.0//EN
CALSCALE:GREGORIAN
METHOD:PUBLISH
X-WR-CALNAME:CECV
X-ORIGINAL-URL:https://portal.edu.gva.es/consellescolar
X-WR-CALDESC:Eventos para CECV
REFRESH-INTERVAL;VALUE=DURATION:PT1H
X-Robots-Tag:noindex
X-PUBLISHED-TTL:PT1H
BEGIN:VTIMEZONE
TZID:Europe/Helsinki
BEGIN:DAYLIGHT
TZOFFSETFROM:+0200
TZOFFSETTO:+0300
TZNAME:EEST
DTSTART:20250330T010000
END:DAYLIGHT
BEGIN:STANDARD
TZOFFSETFROM:+0300
TZOFFSETTO:+0200
TZNAME:EET
DTSTART:20251026T010000
END:STANDARD
END:VTIMEZONE
BEGIN:VEVENT
DTSTART;TZID=Europe/Helsinki:20250528T080000
DTEND;TZID=Europe/Helsinki:20250528T170000
DTSTAMP:20260422T133408
CREATED:20250707T182406Z
LAST-MODIFIED:20250707T182406Z
UID:9582-1748419200-1748451600@portal.edu.gva.es
SUMMARY:Comisión  de innovación
DESCRIPTION:1. Comunicación y aprobación del acta del 12 de febrero de 2025.\n2. Estado actual de los acuerdos de la sesión anterior.\n3. Ruegos y preguntas.
URL:https://portal.edu.gva.es/consellescolar/es/event/comision-de-innovacion/
CATEGORIES:Comisiones
ATTACH;FMTTYPE=image/png:https://portal.edu.gva.es/consellescolar/wp-content/uploads/sites/238/2025/03/cecv__40_anys_de_participacio_con_anos.png
END:VEVENT
END:VCALENDAR