BEGIN:VCALENDAR
VERSION:2.0
PRODID:-//CEFIRE - ECPv6.10.0//NONSGML v1.0//EN
CALSCALE:GREGORIAN
METHOD:PUBLISH
X-ORIGINAL-URL:https://portal.edu.gva.es/cefire
X-WR-CALDESC:Eventos para CEFIRE
REFRESH-INTERVAL;VALUE=DURATION:PT1H
X-Robots-Tag:noindex
X-PUBLISHED-TTL:PT1H
BEGIN:VTIMEZONE
TZID:Europe/Madrid
BEGIN:DAYLIGHT
TZOFFSETFROM:+0100
TZOFFSETTO:+0200
TZNAME:CEST
DTSTART:20250330T010000
END:DAYLIGHT
BEGIN:STANDARD
TZOFFSETFROM:+0200
TZOFFSETTO:+0100
TZNAME:CET
DTSTART:20251026T010000
END:STANDARD
END:VTIMEZONE
BEGIN:VEVENT
DTSTART;TZID=Europe/Madrid:20250505T150000
DTEND;TZID=Europe/Madrid:20250506T143000
DTSTAMP:20260419T232606
CREATED:20250413T095908Z
LAST-MODIFIED:20250413T170939Z
UID:9493-1746457200-1746541800@portal.edu.gva.es
SUMMARY:VI Congreso de Software Libre
DESCRIPTION:5 i 6 mayo 2025 | Universidad de Alicante (Campus de San Vicente)
URL:https://portal.edu.gva.es/cefire/es/event/vi-congreso-de-software-libre/
END:VEVENT
BEGIN:VEVENT
DTSTART;TZID=Europe/Madrid:20250508T160000
DTEND;TZID=Europe/Madrid:20250509T200000
DTSTAMP:20260419T232606
CREATED:20250413T095324Z
LAST-MODIFIED:20250425T112737Z
UID:9487-1746720000-1746820800@portal.edu.gva.es
SUMMARY:Jornada: Salud mental y prevención de adicciones
DESCRIPTION:8 y 9 mayo 2025 | Castellón\, València y Alicante
URL:https://portal.edu.gva.es/cefire/es/event/jornada-salud-mental-y-prevencion-de-adicciones-claves-para-un-entorno-escolar-saludables/
END:VEVENT
BEGIN:VEVENT
DTSTART;TZID=Europe/Madrid:20250519T080000
DTEND;TZID=Europe/Madrid:20250520T170000
DTSTAMP:20260419T232606
CREATED:20250516T080100Z
LAST-MODIFIED:20250516T080123Z
UID:10541-1747641600-1747760400@portal.edu.gva.es
SUMMARY:La competencia profesional docente: retos del siglo XXI
DESCRIPTION:19 y 20 mayo 2025 | Facultad de educación – Universidad Alicante – Sant Vicent Del Raspeig (Alicante)
URL:https://portal.edu.gva.es/cefire/es/event/la-competencia-profesional-docente-retos-del-siglo-xxi/
END:VEVENT
BEGIN:VEVENT
DTSTART;TZID=Europe/Madrid:20250528T080000
DTEND;TZID=Europe/Madrid:20250528T170000
DTSTAMP:20260419T232606
CREATED:20250516T074507Z
LAST-MODIFIED:20250516T075247Z
UID:10525-1748419200-1748451600@portal.edu.gva.es
SUMMARY:Formar es Transformar
DESCRIPTION:Jornada CEFIRE de Formación Profesional\, enseñamientos artísticos y deportivos\n28 mayo 2025 | Conservatorio Profesional de Música de Torrent
URL:https://portal.edu.gva.es/cefire/es/event/formar-es-transformar/
END:VEVENT
BEGIN:VEVENT
DTSTART;TZID=Europe/Madrid:20250528T160000
DTEND;TZID=Europe/Madrid:20250529T200000
DTSTAMP:20260419T232606
CREATED:20250413T094118Z
LAST-MODIFIED:20250413T171223Z
UID:9479-1748448000-1748548800@portal.edu.gva.es
SUMMARY:I Jornadas CREA. Recursos y oportunidades en educación abierta
DESCRIPTION:28 y 29 mayo 2025 | Centro social «El Grau» (València)
URL:https://portal.edu.gva.es/cefire/es/event/i-jornadas-crea-recursos-y-oportunidades-en-educacion-abierta/
END:VEVENT
END:VCALENDAR