BEGIN:VCALENDAR
VERSION:2.0
PRODID:-//Aula Didàctica Carmelina Sánchez-cutillas - ECPv6.10.0//NONSGML v1.0//EN
CALSCALE:GREGORIAN
METHOD:PUBLISH
X-WR-CALNAME:Aula Didàctica Carmelina Sánchez-cutillas
X-ORIGINAL-URL:https://portal.edu.gva.es/carmelina
X-WR-CALDESC:Esdeveniments per Aula Didàctica Carmelina Sánchez-cutillas
REFRESH-INTERVAL;VALUE=DURATION:PT1H
X-Robots-Tag:noindex
X-PUBLISHED-TTL:PT1H
BEGIN:VTIMEZONE
TZID:Europe/Madrid
BEGIN:DAYLIGHT
TZOFFSETFROM:+0100
TZOFFSETTO:+0200
TZNAME:CEST
DTSTART:20260329T010000
END:DAYLIGHT
BEGIN:STANDARD
TZOFFSETFROM:+0200
TZOFFSETTO:+0100
TZNAME:CET
DTSTART:20261025T010000
END:STANDARD
END:VTIMEZONE
BEGIN:VEVENT
DTSTART;TZID=Europe/Madrid:20260311T090000
DTEND;TZID=Europe/Madrid:20260311T140000
DTSTAMP:20260420T040415
CREATED:20260108T101542Z
LAST-MODIFIED:20260108T101542Z
UID:3702-1773219600-1773237600@portal.edu.gva.es
SUMMARY:Reservat
DESCRIPTION:1r B i C IES Altaia\, Ruta Mar i cel\, museu i Peret i Marrgaliteta
URL:https://portal.edu.gva.es/carmelina/event/reservat-137/
END:VEVENT
BEGIN:VEVENT
DTSTART;TZID=Europe/Madrid:20260313T093000
DTEND;TZID=Europe/Madrid:20260313T140000
DTSTAMP:20260420T040415
CREATED:20260126T124058Z
LAST-MODIFIED:20260126T124058Z
UID:3712-1773394200-1773410400@portal.edu.gva.es
SUMMARY:Reservat
DESCRIPTION:2n ESO\, IES José M. Parra- Alzira: ruta Casa de la mar\, visita al museu i taller
URL:https://portal.edu.gva.es/carmelina/event/reservat-140/
END:VEVENT
BEGIN:VEVENT
DTSTART;TZID=Europe/Madrid:20260316T080000
DTEND;TZID=Europe/Madrid:20260318T170000
DTSTAMP:20260420T040415
CREATED:20251021T080235Z
LAST-MODIFIED:20251021T080235Z
UID:3627-1773648000-1773853200@portal.edu.gva.es
SUMMARY:Reservat
DESCRIPTION:5é CEIP Sant Rafael\, La Nucia: visita museu\, Taller herbes i ruta Mar i cel
URL:https://portal.edu.gva.es/carmelina/event/reservat-116/
END:VEVENT
BEGIN:VEVENT
DTSTART;TZID=Europe/Madrid:20260319T080000
DTEND;TZID=Europe/Madrid:20260320T170000
DTSTAMP:20260420T040415
CREATED:20250903T075521Z
LAST-MODIFIED:20250903T075521Z
UID:3549-1773907200-1774026000@portal.edu.gva.es
SUMMARY:Festiu local
DESCRIPTION:
URL:https://portal.edu.gva.es/carmelina/event/festiu-local-5/
END:VEVENT
BEGIN:VEVENT
DTSTART;TZID=Europe/Madrid:20260323T090000
DTEND;TZID=Europe/Madrid:20260323T140000
DTSTAMP:20260420T040415
CREATED:20260210T082142Z
LAST-MODIFIED:20260210T082142Z
UID:3722-1774256400-1774274400@portal.edu.gva.es
SUMMARY:Reservat
DESCRIPTION:UET IES Beatriu Fajardo\, Benidorm: ruta Mar i cel\, visita al museu i taller màquina d’escriure
URL:https://portal.edu.gva.es/carmelina/event/reservat-143/
END:VEVENT
BEGIN:VEVENT
DTSTART;TZID=Europe/Madrid:20260324T090000
DTEND;TZID=Europe/Madrid:20260324T143000
DTSTAMP:20260420T040415
CREATED:20260210T082326Z
LAST-MODIFIED:20260210T082326Z
UID:3725-1774342800-1774362600@portal.edu.gva.es
SUMMARY:Reservat
DESCRIPTION:4t ESO IES Monastil\, Elda: ruta Casa d ela mar\, visita museu i taller Formigueig de versos
URL:https://portal.edu.gva.es/carmelina/event/reservat-144/
END:VEVENT
BEGIN:VEVENT
DTSTART;TZID=Europe/Madrid:20260325T080000
DTEND;TZID=Europe/Madrid:20260326T170000
DTSTAMP:20260420T040415
CREATED:20250922T112931Z
LAST-MODIFIED:20250922T112931Z
UID:3569-1774425600-1774544400@portal.edu.gva.es
SUMMARY:Reservat
DESCRIPTION:2n ESO- IES Sant Vicent Ferrer\, València: Museu\, ruta i taller
URL:https://portal.edu.gva.es/carmelina/event/reservat-109/
END:VEVENT
BEGIN:VEVENT
DTSTART;TZID=Europe/Madrid:20260325T183000
DTEND;TZID=Europe/Madrid:20260325T200000
DTSTAMP:20260420T040415
CREATED:20260323T082615Z
LAST-MODIFIED:20260323T082615Z
UID:3763-1774463400-1774468800@portal.edu.gva.es
SUMMARY:Dia de la poesia
DESCRIPTION:Tertúlia-recital poètic: Rosa Roig i Vicenta Llorca\, amb Mercé Climent
URL:https://portal.edu.gva.es/carmelina/event/dia-de-la-poesia/
END:VEVENT
BEGIN:VEVENT
DTSTART;TZID=Europe/Madrid:20260327T160000
DTEND;TZID=Europe/Madrid:20260327T203000
DTSTAMP:20260420T040415
CREATED:20251006T094034Z
LAST-MODIFIED:20251006T094034Z
UID:3623-1774627200-1774643400@portal.edu.gva.es
SUMMARY:Reservat
DESCRIPTION:EOI Gandia-Dénia: visita museu i ruta Mar i cel
URL:https://portal.edu.gva.es/carmelina/event/reservat-115/
END:VEVENT
BEGIN:VEVENT
DTSTART;TZID=Europe/Madrid:20260330T090000
DTEND;TZID=Europe/Madrid:20260330T143000
DTSTAMP:20260420T040415
CREATED:20260123T090619Z
LAST-MODIFIED:20260123T090619Z
UID:3709-1774861200-1774881000@portal.edu.gva.es
SUMMARY:Reservat
DESCRIPTION:1r Bat. IES Grau de València- Casa de la mar\, formigueig de versos
URL:https://portal.edu.gva.es/carmelina/event/reservat-139/
END:VEVENT
BEGIN:VEVENT
DTSTART;TZID=Europe/Madrid:20260331T090000
DTEND;TZID=Europe/Madrid:20260331T140000
DTSTAMP:20260420T040415
CREATED:20260311T085237Z
LAST-MODIFIED:20260311T085237Z
UID:3732-1774947600-1774965600@portal.edu.gva.es
SUMMARY:Reservat
DESCRIPTION:1r Bat IES Josep Iborra\, Benissa: Ruta Mari cel\, Formigueig de versos i visita museu
URL:https://portal.edu.gva.es/carmelina/event/reservat-145/
END:VEVENT
END:VCALENDAR