BEGIN:VCALENDAR
VERSION:2.0
PRODID:-//Aula Didàctica Carmelina Sánchez-cutillas - ECPv6.10.0//NONSGML v1.0//EN
CALSCALE:GREGORIAN
METHOD:PUBLISH
X-WR-CALNAME:Aula Didàctica Carmelina Sánchez-cutillas
X-ORIGINAL-URL:https://portal.edu.gva.es/carmelina
X-WR-CALDESC:Esdeveniments per Aula Didàctica Carmelina Sánchez-cutillas
REFRESH-INTERVAL;VALUE=DURATION:PT1H
X-Robots-Tag:noindex
X-PUBLISHED-TTL:PT1H
BEGIN:VTIMEZONE
TZID:Europe/Madrid
BEGIN:DAYLIGHT
TZOFFSETFROM:+0100
TZOFFSETTO:+0200
TZNAME:CEST
DTSTART:20260329T010000
END:DAYLIGHT
BEGIN:STANDARD
TZOFFSETFROM:+0200
TZOFFSETTO:+0100
TZNAME:CET
DTSTART:20261025T010000
END:STANDARD
END:VTIMEZONE
BEGIN:VEVENT
DTSTART;TZID=Europe/Madrid:20260225T080000
DTEND;TZID=Europe/Madrid:20260225T170000
DTSTAMP:20260421T060758
CREATED:20251003T112110Z
LAST-MODIFIED:20251003T112110Z
UID:3614-1772006400-1772038800@portal.edu.gva.es
SUMMARY:Reservat
DESCRIPTION:4t ESO IES Rei en Jaume I\, Alzira: ruta Casa de la mar\, visita al museu i taller Formigueig de versos
URL:https://portal.edu.gva.es/carmelina/event/reservat-112/
END:VEVENT
END:VCALENDAR