BEGIN:VCALENDAR
VERSION:2.0
PRODID:-//Aula Didàctica Carmelina Sánchez-cutillas - ECPv6.10.0//NONSGML v1.0//EN
CALSCALE:GREGORIAN
METHOD:PUBLISH
X-ORIGINAL-URL:https://portal.edu.gva.es/carmelina
X-WR-CALDESC:Esdeveniments per Aula Didàctica Carmelina Sánchez-cutillas
REFRESH-INTERVAL;VALUE=DURATION:PT1H
X-Robots-Tag:noindex
X-PUBLISHED-TTL:PT1H
BEGIN:VTIMEZONE
TZID:Europe/Madrid
BEGIN:DAYLIGHT
TZOFFSETFROM:+0100
TZOFFSETTO:+0200
TZNAME:CEST
DTSTART:20250330T010000
END:DAYLIGHT
BEGIN:STANDARD
TZOFFSETFROM:+0200
TZOFFSETTO:+0100
TZNAME:CET
DTSTART:20251026T010000
END:STANDARD
END:VTIMEZONE
BEGIN:VEVENT
DTSTART;TZID=Europe/Madrid:20250407T093000
DTEND;TZID=Europe/Madrid:20250407T133000
DTSTAMP:20260420T234505
CREATED:20241210T094904Z
LAST-MODIFIED:20241210T094904Z
UID:3401-1744018200-1744032600@portal.edu.gva.es
SUMMARY:Reservat
DESCRIPTION:La Nau gran\, Universitat de València- Seu d’Ontinyent- Visita a l’Espai temàtic i ruta Casa de la mar.
URL:https://portal.edu.gva.es/carmelina/event/reservat-70/
END:VEVENT
BEGIN:VEVENT
DTSTART;TZID=Europe/Madrid:20250407T123000
DTEND;TZID=Europe/Madrid:20250407T150000
DTSTAMP:20260420T234505
CREATED:20250328T105149Z
LAST-MODIFIED:20250328T105149Z
UID:3501-1744029000-1744038000@portal.edu.gva.es
SUMMARY:Reservat
DESCRIPTION:IES Cavanilles\, Alacant 1r i 3r ESO- Visita al centre i taller Herbes aromàtiques
URL:https://portal.edu.gva.es/carmelina/event/reservat-94/
END:VEVENT
END:VCALENDAR