BEGIN:VCALENDAR
VERSION:2.0
PRODID:-//CEIP MEDITERRÁNEO - ECPv6.10.0//NONSGML v1.0//EN
CALSCALE:GREGORIAN
METHOD:PUBLISH
X-WR-CALNAME:CEIP MEDITERRÁNEO
X-ORIGINAL-URL:https://portal.edu.gva.es/46017559
X-WR-CALDESC:Esdeveniments per CEIP MEDITERRÁNEO
REFRESH-INTERVAL;VALUE=DURATION:PT1H
X-Robots-Tag:noindex
X-PUBLISHED-TTL:PT1H
BEGIN:VTIMEZONE
TZID:Europe/Helsinki
BEGIN:DAYLIGHT
TZOFFSETFROM:+0200
TZOFFSETTO:+0300
TZNAME:EEST
DTSTART:20190331T010000
END:DAYLIGHT
BEGIN:STANDARD
TZOFFSETFROM:+0300
TZOFFSETTO:+0200
TZNAME:EET
DTSTART:20191027T010000
END:STANDARD
END:VTIMEZONE
BEGIN:VEVENT
DTSTART;VALUE=DATE:20191031
DTEND;VALUE=DATE:20191101
DTSTAMP:20260423T083455
CREATED:20191025T110707Z
LAST-MODIFIED:20191025T110707Z
UID:417-1572480000-1572566399@portal.edu.gva.es
SUMMARY:Excursió 1r i 2n
DESCRIPTION:
URL:https://portal.edu.gva.es/46017559/event/excursio-1r-i-2n/
END:VEVENT
END:VCALENDAR