BEGIN:VCALENDAR
VERSION:2.0
PRODID:-//Las Espeñetas - ECPv6.10.0//NONSGML v1.0//EN
CALSCALE:GREGORIAN
METHOD:PUBLISH
X-ORIGINAL-URL:https://portal.edu.gva.es/03011070
X-WR-CALDESC:Eventos para Las Espeñetas
REFRESH-INTERVAL;VALUE=DURATION:PT1H
X-Robots-Tag:noindex
X-PUBLISHED-TTL:PT1H
BEGIN:VTIMEZONE
TZID:Europe/Helsinki
BEGIN:DAYLIGHT
TZOFFSETFROM:+0200
TZOFFSETTO:+0300
TZNAME:EEST
DTSTART:20220327T010000
END:DAYLIGHT
BEGIN:STANDARD
TZOFFSETFROM:+0300
TZOFFSETTO:+0200
TZNAME:EET
DTSTART:20221030T010000
END:STANDARD
END:VTIMEZONE
BEGIN:VEVENT
DTSTART;TZID=Europe/Helsinki:20220330T080000
DTEND;TZID=Europe/Helsinki:20220330T140000
DTSTAMP:20260420T042044
CREATED:20220301T112853Z
LAST-MODIFIED:20220303T125141Z
UID:4386-1648627200-1648648800@portal.edu.gva.es
SUMMARY:Excursión Trinquet de Crevillent
DESCRIPTION:El  alumnado de  2º de la Eso y 3º Eso visitarán los días 29  y 31 de marzo el trinquet en Crevillent donde realizarán una Gymkana y un minitorneo de pilota. \nOrganizan los Departamentos de Valencià y Educación Física
URL:https://portal.edu.gva.es/03011070/event/excursion-trinquet-de-crevillent/
END:VEVENT
END:VCALENDAR